BEGIN:VCALENDAR
VERSION:2.0
PRODID:-//KCV Alzey - ECPv6.0.8//NONSGML v1.0//EN
CALSCALE:GREGORIAN
METHOD:PUBLISH
X-WR-CALNAME:KCV Alzey
X-ORIGINAL-URL:http://kreis-chorverband-alzey.de
X-WR-CALDESC:Veranstaltungen für KCV Alzey
REFRESH-INTERVAL;VALUE=DURATION:PT1H
X-Robots-Tag:noindex
X-PUBLISHED-TTL:PT1H
BEGIN:VTIMEZONE
TZID:UTC
BEGIN:STANDARD
TZOFFSETFROM:+0000
TZOFFSETTO:+0000
TZNAME:UTC
DTSTART:20180101T000000
END:STANDARD
END:VTIMEZONE
BEGIN:VEVENT
DTSTART;TZID=UTC:20180909T170000
DTEND;TZID=UTC:20180909T190000
DTSTAMP:20260426T025401
CREATED:20180610T181454Z
LAST-MODIFIED:20180610T181454Z
UID:244-1536512400-1536519600@kreis-chorverband-alzey.de
SUMMARY:Großes Jubiläums-Kerbekonzert Jung und R(h)einkehlchen
DESCRIPTION:
URL:http://kreis-chorverband-alzey.de/event/grosses-jubilaeums-kerbekonzert-jung-und-rheinkehlchen/
LOCATION:Kath. Kirche Saulheim\, Weedengasse 4\, Saulheim\, 55291\, Deutschland
END:VEVENT
END:VCALENDAR