BEGIN:VCALENDAR
VERSION:2.0
PRODID:-//KCV Alzey - ECPv6.0.8//NONSGML v1.0//EN
CALSCALE:GREGORIAN
METHOD:PUBLISH
X-ORIGINAL-URL:http://kreis-chorverband-alzey.de
X-WR-CALDESC:Veranstaltungen für KCV Alzey
REFRESH-INTERVAL;VALUE=DURATION:PT1H
X-Robots-Tag:noindex
X-PUBLISHED-TTL:PT1H
BEGIN:VTIMEZONE
TZID:UTC
BEGIN:STANDARD
TZOFFSETFROM:+0000
TZOFFSETTO:+0000
TZNAME:UTC
DTSTART:20180101T000000
END:STANDARD
END:VTIMEZONE
BEGIN:VEVENT
DTSTART;TZID=UTC:20180922T190000
DTEND;TZID=UTC:20180922T210000
DTSTAMP:20260426T025758
CREATED:20180901T090432Z
LAST-MODIFIED:20180901T090432Z
UID:426-1537642800-1537650000@kreis-chorverband-alzey.de
SUMMARY:Jahreskonzert Liederkranz Wörrstadt
DESCRIPTION:Filmmusik von Zarah Leander bis Adele\, \nBlockbuster von Ufa-Film bis James Bond.
URL:http://kreis-chorverband-alzey.de/event/jahreskonzert-liederkranz-woerrstadt/
LOCATION:Neubornhalle Wörrstadt\, Jahnstraße 15\, 55286\, Deutschland
END:VEVENT
END:VCALENDAR