BEGIN:VCALENDAR
VERSION:2.0
PRODID:-//KCV Alzey - ECPv6.0.8//NONSGML v1.0//EN
CALSCALE:GREGORIAN
METHOD:PUBLISH
X-WR-CALNAME:KCV Alzey
X-ORIGINAL-URL:http://kreis-chorverband-alzey.de
X-WR-CALDESC:Veranstaltungen für KCV Alzey
REFRESH-INTERVAL;VALUE=DURATION:PT1H
X-Robots-Tag:noindex
X-PUBLISHED-TTL:PT1H
BEGIN:VTIMEZONE
TZID:UTC
BEGIN:STANDARD
TZOFFSETFROM:+0000
TZOFFSETTO:+0000
TZNAME:UTC
DTSTART:20180101T000000
END:STANDARD
END:VTIMEZONE
BEGIN:VEVENT
DTSTART;TZID=UTC:20181209T180000
DTEND;TZID=UTC:20181209T200000
DTSTAMP:20260425T220920
CREATED:20181109T094127Z
LAST-MODIFIED:20181109T094127Z
UID:515-1544378400-1544385600@kreis-chorverband-alzey.de
SUMMARY:Adventskonzert
DESCRIPTION:  \nZu einem festlichen Adventskonzert laden iNCognito\, der Frauenchor der Sängervereinigung Saulheim e.V. sowie der Frauenchor der Germania Frankfurt Sindlingen (70 Sängerinnen) am Sonntag\, dem 9. Dezember 2018 um 18:00 Uhr (Einlass 17:30 Uhr) in die Sängerhalle in Saulheim\, Bahnhofstr. 22\, ein. Beide Chöre stehen unter der Leitung von Musikdirektor Michael H. Kuhn. Mit traditioneller\, klassischer und weltlicher Chorliteratur wollen die Sängerinnen auf die Weihnachtszeit einstimmen. Der Reinerlös des Konzertabends kommt dem ASB – Wünschewagen zu Gute. Dieses aus Spenden finanzierte Projekt des Arbeiter Samariter Bundes erfüllt Menschen in ihrer letzten Lebensphase einen besonderen Herzenswunsch und fährt sie gemeinsam mit ihren Familien und Freunden noch einmal an ihren Lieblingsort. Weitere Info dazu finden Sie auf https://wuenschewagen.de/. Die Sängerinnen freuen sich auf viele Gäste\, die das Vorhaben mit unterstützen wollen. \n 
URL:http://kreis-chorverband-alzey.de/event/adventskonzert/
END:VEVENT
END:VCALENDAR