BEGIN:VCALENDAR
VERSION:2.0
PRODID:-//KCV Alzey - ECPv6.0.8//NONSGML v1.0//EN
CALSCALE:GREGORIAN
METHOD:PUBLISH
X-ORIGINAL-URL:http://kreis-chorverband-alzey.de
X-WR-CALDESC:Veranstaltungen für KCV Alzey
REFRESH-INTERVAL;VALUE=DURATION:PT1H
X-Robots-Tag:noindex
X-PUBLISHED-TTL:PT1H
BEGIN:VTIMEZONE
TZID:UTC
BEGIN:STANDARD
TZOFFSETFROM:+0000
TZOFFSETTO:+0000
TZNAME:UTC
DTSTART:20200101T000000
END:STANDARD
END:VTIMEZONE
BEGIN:VEVENT
DTSTART;TZID=UTC:20200619T190000
DTEND;TZID=UTC:20200619T210000
DTSTAMP:20260424T160730
CREATED:20191104T153301Z
LAST-MODIFIED:20200129T160557Z
UID:907-1592593200-1592600400@kreis-chorverband-alzey.de
SUMMARY:Jahreskonzert der Jung-und R(h)einkelchen\, Sängervereinigung
DESCRIPTION:
URL:http://kreis-chorverband-alzey.de/event/musicalauffuehrungen-der-rheinkehlchen-der-saengervereinigung-saulheim-e-v-3/
END:VEVENT
END:VCALENDAR