BEGIN:VCALENDAR
VERSION:2.0
PRODID:-//KCV Alzey - ECPv6.0.8//NONSGML v1.0//EN
CALSCALE:GREGORIAN
METHOD:PUBLISH
X-WR-CALNAME:KCV Alzey
X-ORIGINAL-URL:http://kreis-chorverband-alzey.de
X-WR-CALDESC:Veranstaltungen für KCV Alzey
REFRESH-INTERVAL;VALUE=DURATION:PT1H
X-Robots-Tag:noindex
X-PUBLISHED-TTL:PT1H
BEGIN:VTIMEZONE
TZID:UTC
BEGIN:STANDARD
TZOFFSETFROM:+0000
TZOFFSETTO:+0000
TZNAME:UTC
DTSTART:20200101T000000
END:STANDARD
END:VTIMEZONE
BEGIN:VEVENT
DTSTART;TZID=UTC:20200911T203000
DTEND;TZID=UTC:20200911T203000
DTSTAMP:20260424T112237
CREATED:20191104T153448Z
LAST-MODIFIED:20191104T153448Z
UID:913-1599856200-1599856200@kreis-chorverband-alzey.de
SUMMARY:Eröffnung Weinstand
DESCRIPTION:Weinterrasse zwischen den Kirchen \nMännerchor Saulheim ( Liederkranz und Sängervereinigung ) singt zur Eröffnung des vereinseigenen Weinstandes
URL:http://kreis-chorverband-alzey.de/event/eroeffnung-weinstand/
LOCATION:Zwischen den Kirchen
END:VEVENT
END:VCALENDAR