BEGIN:VCALENDAR
VERSION:2.0
PRODID:-//KCV Alzey - ECPv6.0.8//NONSGML v1.0//EN
CALSCALE:GREGORIAN
METHOD:PUBLISH
X-ORIGINAL-URL:http://kreis-chorverband-alzey.de
X-WR-CALDESC:Veranstaltungen für KCV Alzey
REFRESH-INTERVAL;VALUE=DURATION:PT1H
X-Robots-Tag:noindex
X-PUBLISHED-TTL:PT1H
BEGIN:VTIMEZONE
TZID:UTC
BEGIN:STANDARD
TZOFFSETFROM:+0000
TZOFFSETTO:+0000
TZNAME:UTC
DTSTART:20200101T000000
END:STANDARD
END:VTIMEZONE
BEGIN:VEVENT
DTSTART;TZID=UTC:20200925T190000
DTEND;TZID=UTC:20200925T210000
DTSTAMP:20260424T112549
CREATED:20200201T155022Z
LAST-MODIFIED:20200201T155022Z
UID:1078-1601060400-1601067600@kreis-chorverband-alzey.de
SUMMARY:"Come sing with us..... "
DESCRIPTION:„Come\, sing with us….“ Moderne Chöre\n				Neubornhalle Wörrrstadt
URL:http://kreis-chorverband-alzey.de/event/come-sing-with-us/
LOCATION:Neubornhalle Wörrstadt\, Jahnstraße 15\, 55286\, Deutschland
END:VEVENT
END:VCALENDAR