BEGIN:VCALENDAR
VERSION:2.0
PRODID:-//KCV Alzey - ECPv6.0.8//NONSGML v1.0//EN
CALSCALE:GREGORIAN
METHOD:PUBLISH
X-ORIGINAL-URL:http://kreis-chorverband-alzey.de
X-WR-CALDESC:Veranstaltungen für KCV Alzey
REFRESH-INTERVAL;VALUE=DURATION:PT1H
X-Robots-Tag:noindex
X-PUBLISHED-TTL:PT1H
BEGIN:VTIMEZONE
TZID:UTC
BEGIN:STANDARD
TZOFFSETFROM:+0000
TZOFFSETTO:+0000
TZNAME:UTC
DTSTART:20230101T000000
END:STANDARD
END:VTIMEZONE
BEGIN:VEVENT
DTSTART;TZID=UTC:20230513T150000
DTEND;TZID=UTC:20230513T170000
DTSTAMP:20260420T070547
CREATED:20230117T143545Z
LAST-MODIFIED:20230326T185108Z
UID:1427-1683990000-1683997200@kreis-chorverband-alzey.de
SUMMARY:Musicalaufführung "Tuishi Pamoja- Eine Freundschaft in der Savanne" R(h)einkehlchen und Jungkehlchen Saulheim
DESCRIPTION:
URL:http://kreis-chorverband-alzey.de/event/musicalauffuehrung-tuishi-pamoja-jung-und-rheinkelchen/
LOCATION:Sängerhalle Saulheim
END:VEVENT
BEGIN:VEVENT
DTSTART;TZID=UTC:20230513T190000
DTEND;TZID=UTC:20230513T210000
DTSTAMP:20260420T070547
CREATED:20230326T183628Z
LAST-MODIFIED:20230326T184236Z
UID:1511-1684004400-1684011600@kreis-chorverband-alzey.de
SUMMARY:Musicalaufführung "Tuishi Pamoja - Eine Freundschaft in der Savanne" R(h)einkehlchen und Jungkehlchen Saulheim
DESCRIPTION:
URL:http://kreis-chorverband-alzey.de/event/musicalauffuehrung-tuishi-pamoja-eine-freundschaft-in-der-savanne/
LOCATION:Sängerhalle Saulheim
END:VEVENT
END:VCALENDAR