BEGIN:VCALENDAR
VERSION:2.0
PRODID:-//KCV Alzey - ECPv6.0.8//NONSGML v1.0//EN
CALSCALE:GREGORIAN
METHOD:PUBLISH
X-ORIGINAL-URL:http://kreis-chorverband-alzey.de
X-WR-CALDESC:Veranstaltungen für KCV Alzey
REFRESH-INTERVAL;VALUE=DURATION:PT1H
X-Robots-Tag:noindex
X-PUBLISHED-TTL:PT1H
BEGIN:VTIMEZONE
TZID:UTC
BEGIN:STANDARD
TZOFFSETFROM:+0000
TZOFFSETTO:+0000
TZNAME:UTC
DTSTART:20230101T000000
END:STANDARD
END:VTIMEZONE
BEGIN:VEVENT
DTSTART;TZID=UTC:20230514T160000
DTEND;TZID=UTC:20230514T180000
DTSTAMP:20260420T070519
CREATED:20230326T184059Z
LAST-MODIFIED:20230326T184059Z
UID:1513-1684080000-1684087200@kreis-chorverband-alzey.de
SUMMARY:Musicalaufführung "Tuishi Pamoja  eine Freundschaft in der Savanne" R(h)einkehlchen und Jungkehlchen Saulheim
DESCRIPTION:
URL:http://kreis-chorverband-alzey.de/event/musicalauffuehrung-tuishi-pamoja-eine-freundschaft-in-der-savanne-rheinkehlchen-und-jungkehlchen-saulheim/
LOCATION:Sängerhalle Saulheim
END:VEVENT
END:VCALENDAR