BEGIN:VCALENDAR
VERSION:2.0
PRODID:-//KCV Alzey - ECPv6.0.8//NONSGML v1.0//EN
CALSCALE:GREGORIAN
METHOD:PUBLISH
X-WR-CALNAME:KCV Alzey
X-ORIGINAL-URL:http://kreis-chorverband-alzey.de
X-WR-CALDESC:Veranstaltungen für KCV Alzey
REFRESH-INTERVAL;VALUE=DURATION:PT1H
X-Robots-Tag:noindex
X-PUBLISHED-TTL:PT1H
BEGIN:VTIMEZONE
TZID:UTC
BEGIN:STANDARD
TZOFFSETFROM:+0000
TZOFFSETTO:+0000
TZNAME:UTC
DTSTART:20240101T000000
END:STANDARD
END:VTIMEZONE
BEGIN:VEVENT
DTSTART;TZID=UTC:20240323T190000
DTEND;TZID=UTC:20240323T210000
DTSTAMP:20260419T151506
CREATED:20240309T100257Z
LAST-MODIFIED:20240309T101442Z
UID:1687-1711220400-1711227600@kreis-chorverband-alzey.de
SUMMARY:Frühlingskonzert Sulzheim
DESCRIPTION:
URL:http://kreis-chorverband-alzey.de/event/fruehlingskonzert-sulzheim/
END:VEVENT
BEGIN:VEVENT
DTSTART;TZID=UTC:20240323T190000
DTEND;TZID=UTC:20240323T210000
DTSTAMP:20260419T151506
CREATED:20240309T113635Z
LAST-MODIFIED:20240309T113827Z
UID:1720-1711220400-1711227600@kreis-chorverband-alzey.de
SUMMARY:Frühlingserwachen
DESCRIPTION:
URL:http://kreis-chorverband-alzey.de/event/fruehlingserwachen/
LOCATION:Sängerheim Liederkranz Wörrstadt\, Rommersheimer Str. 11\, Wörrstadt\, 55286
END:VEVENT
END:VCALENDAR