BEGIN:VCALENDAR
VERSION:2.0
PRODID:-//KCV Alzey - ECPv6.0.8//NONSGML v1.0//EN
CALSCALE:GREGORIAN
METHOD:PUBLISH
X-WR-CALNAME:KCV Alzey
X-ORIGINAL-URL:http://kreis-chorverband-alzey.de
X-WR-CALDESC:Veranstaltungen für KCV Alzey
REFRESH-INTERVAL;VALUE=DURATION:PT1H
X-Robots-Tag:noindex
X-PUBLISHED-TTL:PT1H
BEGIN:VTIMEZONE
TZID:UTC
BEGIN:STANDARD
TZOFFSETFROM:+0000
TZOFFSETTO:+0000
TZNAME:UTC
DTSTART:20180101T000000
END:STANDARD
END:VTIMEZONE
BEGIN:VEVENT
DTSTART;TZID=UTC:20180826T180000
DTEND;TZID=UTC:20180826T220000
DTSTAMP:20260426T030515
CREATED:20180610T181159Z
LAST-MODIFIED:20180610T181159Z
UID:240-1535306400-1535320800@kreis-chorverband-alzey.de
SUMMARY:Das Beste aus mehr als 25 Jahren Jägerchor
DESCRIPTION:
URL:http://kreis-chorverband-alzey.de/event/das-beste-aus-mehr-als-25-jahren-jaegerchor/
ORGANIZER;CN="J%C3%A4gerchor%20Saulheim":MAILTO:weingut.lenz@t-online.de
END:VEVENT
END:VCALENDAR