BEGIN:VCALENDAR
VERSION:2.0
PRODID:-//KCV Alzey - ECPv6.0.8//NONSGML v1.0//EN
CALSCALE:GREGORIAN
METHOD:PUBLISH
X-WR-CALNAME:KCV Alzey
X-ORIGINAL-URL:http://kreis-chorverband-alzey.de
X-WR-CALDESC:Veranstaltungen für KCV Alzey
REFRESH-INTERVAL;VALUE=DURATION:PT1H
X-Robots-Tag:noindex
X-PUBLISHED-TTL:PT1H
BEGIN:VTIMEZONE
TZID:UTC
BEGIN:STANDARD
TZOFFSETFROM:+0000
TZOFFSETTO:+0000
TZNAME:UTC
DTSTART:20180101T000000
END:STANDARD
END:VTIMEZONE
BEGIN:VEVENT
DTSTART;TZID=UTC:20181103T140000
DTEND;TZID=UTC:20181103T170000
DTSTAMP:20260425T215853
CREATED:20180912T203954Z
LAST-MODIFIED:20180912T203954Z
UID:485-1541253600-1541264400@kreis-chorverband-alzey.de
SUMMARY:Herbsttagung KCV Alzey
DESCRIPTION:
URL:http://kreis-chorverband-alzey.de/event/herbsttagung-kcv-alzey/
LOCATION:Gemeindehalle Albig\, Langgasse 91\, Albig\, 55234
END:VEVENT
END:VCALENDAR