BEGIN:VCALENDAR
VERSION:2.0
PRODID:-//KCV Alzey - ECPv6.0.8//NONSGML v1.0//EN
CALSCALE:GREGORIAN
METHOD:PUBLISH
X-ORIGINAL-URL:http://kreis-chorverband-alzey.de
X-WR-CALDESC:Veranstaltungen für KCV Alzey
REFRESH-INTERVAL;VALUE=DURATION:PT1H
X-Robots-Tag:noindex
X-PUBLISHED-TTL:PT1H
BEGIN:VTIMEZONE
TZID:UTC
BEGIN:STANDARD
TZOFFSETFROM:+0000
TZOFFSETTO:+0000
TZNAME:UTC
DTSTART:20190101T000000
END:STANDARD
END:VTIMEZONE
BEGIN:VEVENT
DTSTART;TZID=UTC:20191019T190000
DTEND;TZID=UTC:20191019T220000
DTSTAMP:20260425T031211
CREATED:20180610T191309Z
LAST-MODIFIED:20180610T191309Z
UID:285-1571511600-1571522400@kreis-chorverband-alzey.de
SUMMARY:Herbstkonzert" Liederkranz und Sängervereinigung mit Gastchören
DESCRIPTION:
URL:http://kreis-chorverband-alzey.de/event/herbstkonzert-liederkranz-und-saengervereinigung-mit-gastchoeren-2/
END:VEVENT
BEGIN:VEVENT
DTSTART;TZID=UTC:20191019T190000
DTEND;TZID=UTC:20191019T220000
DTSTAMP:20260425T031211
CREATED:20190916T214459Z
LAST-MODIFIED:20190916T214459Z
UID:735-1571511600-1571522400@kreis-chorverband-alzey.de
SUMMARY:Herbstkonzert
DESCRIPTION:  \n \nUnsere herzliche Einladung zum Herbstkonzert „bunt sind schon die Wälder“ am Samstag\, 19.10.2019\, 19:00 Uhr in der Sängerhalle\, geht hiermit an alle Freunde des Chorgesangs. Außer unseren Vereinschören „Männerchor Saulheim“ und dem Frauenchor „Voices of the Night“ werden auch die bezaubernde Sopranistin Marika Dzhaiani sowie die beiden Westerwald-Chöre „Thalia Ebernhahn“ (gem. Chor) und „MGV Cäcilia Horbach“ (Männerchor) das Programm bereichern und die Gäste mit ihren Darbietungen erfreuen. Es freut uns besonders\, dass wir nach Jahren endlich wieder einmal eine Solistin im Programm haben und sind glücklich\, dass wir mit Frau Dzhaiani einen musikalischen Ohrenschmaus präsentieren können. Die Chöre aus dem Westerwald\, können mit Fug und Recht als Leistungsschöre im Chorverband Rheinland-Pfalz bezeichnet werden\, sie gelten als Garant für erstklassigen Chorgesang. Nicht umsonst darf der große gemischte Chor Thalia aus Ebernhahn mit 65 Stimmen den Titel Meisterchor führen und die Sänger aus Horbach zählen zu den leistungsstärksten Männerchören in ihrer Heimatregion. Und das ist sicher auch dem agilen und erfolgreichen Chorleiter Jürgen Faßbender zu verdanken. Nicht zu vergessen die Voices of the Night\, die seit diesem Jahr ebenfalls den Titel Meisterchor im Chorverband Rheinland-Pfalz führen dürfen. Die Aktiven freuen sich auf zahlreichen Besuch in der stilvollen Saulheimer Sängerhalle. Die Saalöffnung ist um 18:00 Uhr. Karten gibt’s im Vorverkauf beim Lädchen\, Ober-Saulheimer Str. 34\, und bei den Sängerinnen und Sängern. Wir freuen uns auf Ihren Besuch. Info und Kontakt: Tel. 06732-3100 oder 06732-4472.
URL:http://kreis-chorverband-alzey.de/event/herbstkonzert/
END:VEVENT
BEGIN:VEVENT
DTSTART;TZID=UTC:20191019T190000
DTEND;TZID=UTC:20191019T220000
DTSTAMP:20260425T031211
CREATED:20190928T094039Z
LAST-MODIFIED:20190928T094351Z
UID:762-1571511600-1571522400@kreis-chorverband-alzey.de
SUMMARY:Musikalische Reise mit GV Liederkranz Wörrstadt
DESCRIPTION:
URL:http://kreis-chorverband-alzey.de/event/musikalische-reise-mit-gv-liederkranz-woerrstadt/
LOCATION:Neubornhalle Wörrstadt\, Jahnstraße 15\, 55286\, Deutschland
END:VEVENT
BEGIN:VEVENT
DTSTART;TZID=UTC:20191020T100000
DTEND;TZID=UTC:20191020T170000
DTSTAMP:20260425T031211
CREATED:20190324T182259Z
LAST-MODIFIED:20190324T182409Z
UID:579-1571565600-1571590800@kreis-chorverband-alzey.de
SUMMARY:Offenes Kritiksingen zum 175 jährigen des MGV 1844 e.V. Flonheim
DESCRIPTION:
URL:http://kreis-chorverband-alzey.de/event/offenes-kritiksingen-zum-175-jaehrigen-des-mgv-1844-e-v-flonheim/
LOCATION:Adelberghalle Flonheim\, Berliner Str. 16\, Flonheim\, 55237
END:VEVENT
END:VCALENDAR