BEGIN:VCALENDAR
VERSION:2.0
PRODID:-//KCV Alzey - ECPv6.0.8//NONSGML v1.0//EN
CALSCALE:GREGORIAN
METHOD:PUBLISH
X-ORIGINAL-URL:http://kreis-chorverband-alzey.de
X-WR-CALDESC:Veranstaltungen für KCV Alzey
REFRESH-INTERVAL;VALUE=DURATION:PT1H
X-Robots-Tag:noindex
X-PUBLISHED-TTL:PT1H
BEGIN:VTIMEZONE
TZID:UTC
BEGIN:STANDARD
TZOFFSETFROM:+0000
TZOFFSETTO:+0000
TZNAME:UTC
DTSTART:20190101T000000
END:STANDARD
END:VTIMEZONE
BEGIN:VEVENT
DTSTART;TZID=UTC:20191201T160000
DTEND;TZID=UTC:20191201T190000
DTSTAMP:20260424T235213
CREATED:20191109T161334Z
LAST-MODIFIED:20191109T161928Z
UID:994-1575216000-1575226800@kreis-chorverband-alzey.de
SUMMARY:"All around the world"
DESCRIPTION:
URL:http://kreis-chorverband-alzey.de/event/all-around-the-world/
LOCATION:kath. Kirche St. Josef Alzey\, Kirchenplatz 8\, Alzey\, 55232\, Deutschland
END:VEVENT
BEGIN:VEVENT
DTSTART;TZID=UTC:20191219T190000
DTEND;TZID=UTC:20191219T203000
DTSTAMP:20260424T235213
CREATED:20191104T145001Z
LAST-MODIFIED:20191104T145001Z
UID:871-1576782000-1576787400@kreis-chorverband-alzey.de
SUMMARY:Adventskonzert
DESCRIPTION:
URL:http://kreis-chorverband-alzey.de/event/adventskonzert-3/
LOCATION:Kath. Kirche Saulheim\, Weedengasse 4\, Saulheim\, 55291\, Deutschland
END:VEVENT
BEGIN:VEVENT
DTSTART;TZID=UTC:20191223T170000
DTEND;TZID=UTC:20191223T183000
DTSTAMP:20260424T235213
CREATED:20191104T144259Z
LAST-MODIFIED:20191104T144736Z
UID:859-1577120400-1577125800@kreis-chorverband-alzey.de
SUMMARY:Singen wir im Schein der Kerze
DESCRIPTION:Weihnachtslieder zum Mitsingen
URL:http://kreis-chorverband-alzey.de/event/adventskonzert-2/
LOCATION:EV. Kirche Saulheim\, Neue Pforte 2\, Saulheim\, 55291\, Deutschland
END:VEVENT
END:VCALENDAR