BEGIN:VCALENDAR
VERSION:2.0
PRODID:-//KCV Alzey - ECPv6.0.8//NONSGML v1.0//EN
CALSCALE:GREGORIAN
METHOD:PUBLISH
X-WR-CALNAME:KCV Alzey
X-ORIGINAL-URL:http://kreis-chorverband-alzey.de
X-WR-CALDESC:Veranstaltungen für KCV Alzey
REFRESH-INTERVAL;VALUE=DURATION:PT1H
X-Robots-Tag:noindex
X-PUBLISHED-TTL:PT1H
BEGIN:VTIMEZONE
TZID:UTC
BEGIN:STANDARD
TZOFFSETFROM:+0000
TZOFFSETTO:+0000
TZNAME:UTC
DTSTART:20200101T000000
END:STANDARD
END:VTIMEZONE
BEGIN:VEVENT
DTSTART;TZID=UTC:20200516T170000
DTEND;TZID=UTC:20200516T190000
DTSTAMP:20260424T160642
CREATED:20191104T150849Z
LAST-MODIFIED:20200321T200238Z
UID:883-1589648400-1589655600@kreis-chorverband-alzey.de
SUMMARY:"Fällt aus- wird nachgeholt" Jubiläumskonzert" 50 Jahre Sängervereinigung- 30 Jahre Chorleitung Michael H. Kuhn"
DESCRIPTION:In der Sängervereinigung Saulheim e.V. wird der Chorgesang schon seit 1861 gepflegt. Aufgrund der Initiative des damaligen gemeinsamen Chorleiters Hans Dieter entschieden sich die Männergesangvereine Concordia 1861 e.V. Nieder-Saulheim und Einigkeit 1873 e.V. Ober-Saulheim vor 50 Jahren für das gemeinsame Singen als Sängervereinigung Saulheim mit 78 Sängern. Waren es damals „nur“ Männer\, so singen heute insgesamt ca. 150 Stimmen in den fünf Vereinschören Kinderchor „Kleinkehlchen“ (5-7 Jahre)\, Kinderchor „Jungkehlchen“ (8-12 Jahre) und Jugendchor „R(h)einkehlchen“ (ab 13 Jahre)\, die Frauen bei „iNCognito“ und Männer im „Männerchor Saulheim“. Wir sind DER Chor für alle Familienmitglieder. Neben der Ausbildung junger Stimmen geht es ums Wohlfühlen im Verein. Entspannen beim Lernen neuer anspruchsvoller Lieder aus allen Gattungen von der Klassik bis zur Moderne. Das ist unser Motto. In allen Chören. Mach mit! Kontakt: www.sv-saulheim.de \nDas heutige Konzert wird im ersten Teil von Allen Vereinschören in unterschiedlichen Zusammensetzungen gestaltet. \nDen zweiten Teil wird der renommierte SonntagsChor Rheinland-Pfalz alleine gestalten. \nEIN CHOR – EIN LAND: Die heute rd. 50 Choraktiven kommen aus ALLEN Regionen des Landes Rheinland-Pfalz. Sie verstehen sich als musikalische Botschafter des Chorverbandes und des Landes Rheinland-Pfalz und sind mit der chormusikalischen Kultur des Bundeslandes eng verbunden. \nFreuen Sie sich auf ein wunderbares Konzerterlebnis in der stilvollen Saulheimer Sängerhalle mit ihrer hervorragenden Akustik.
URL:http://kreis-chorverband-alzey.de/event/jubilaeumskonzert-50-jahre-saengervereinigung-30-jahre-chorleitung-michael-h-kuhn/
END:VEVENT
BEGIN:VEVENT
DTSTART;TZID=UTC:20200517T160000
DTEND;TZID=UTC:20200517T180000
DTSTAMP:20260424T160642
CREATED:20200306T083506Z
LAST-MODIFIED:20200321T200140Z
UID:1142-1589731200-1589738400@kreis-chorverband-alzey.de
SUMMARY:"Fällt aus- wird nachgeholt" Jubiläums-Chorgala 50 Jahre Sängervereinigung Saulheim e.V. – ehemalige Chorleiter gratulieren -
DESCRIPTION:In der Sängervereinigung Saulheim e.V. wird der Chorgesang schon seit 1861 gepflegt. Aufgrund der Initiative des damaligen gemeinsamen Chorleiters Hans Dieter entschieden sich die Männergesangvereine Concordia 1861 e.V. Nieder-Saulheim und Einigkeit 1873 e.V. Ober-Saulheim vor 50 Jahren für das gemeinsame Singen als Sängervereinigung Saulheim mit 78 Sängern. Waren es damals „nur“ Männer\, so singen heute insgesamt ca. 150 Stimmen in den fünf Vereinschören Kinderchor „Kleinkehlchen“ (5-7 Jahre)\, Kinderchor „Jungkehlchen“ (8-12 Jahre) und Jugendchor „R(h)einkehlchen“ (ab 13 Jahre)\, die Frauen bei „iNCognito“ und Männer im „Männerchor Saulheim“. \nWir sind DER Chor für alle Familienmitglieder. Neben der Ausbildung junger Stimmen geht es ums Wohlfühlen im Verein. Entspannen beim Lernen neuer anspruchsvoller Lieder aus allen Gattungen von der Klassik bis zur Moderne. Das ist unser Motto. In allen Chören. Mach mit! \nDas heutige Konzert steht ganz im Zeichen ehemaliger Chorleiter*innen der letzten 50 Jahre Vereinsgeschichte. So freuen wir uns auf die Mitwirkung von Frau Monika Merz bzw. als Stellvertretung Frau Silja Rothe mit dem Frauenchor „Femtastix“\, Herrn Hans Schlaud mit den Sängern der „Sängervereinigung Bleidenstadt-Watzhahn“ und Herrn Michael H. Kuhn mit dem Männern vom „MGV 1884 Leutershausen“. Darüber hinaus werden auch unsere Erwachsenen-Chöre „Frauenchor iNCognito“\, Ltg. Michael H. Kuhn und der „Männerchor Saulheim“ unter der Leitung von Gerhard Wöllstein mitwirken.\nFreuen Sie sich auf ein wunderbares Konzerterlebnis in der stilvollen Saulheimer Sängerhalle mit ihrer hervorragenden Akustik. \nEinlass: 15.15 Uhr
URL:http://kreis-chorverband-alzey.de/event/jubilaeums-chorgala-50-jahre-saengervereinigung-saulheim-e-v-ehemalige-chorleiter-gratulieren/
END:VEVENT
END:VCALENDAR