BEGIN:VCALENDAR
VERSION:2.0
PRODID:-//KCV Alzey - ECPv6.0.8//NONSGML v1.0//EN
CALSCALE:GREGORIAN
METHOD:PUBLISH
X-WR-CALNAME:KCV Alzey
X-ORIGINAL-URL:http://kreis-chorverband-alzey.de
X-WR-CALDESC:Veranstaltungen für KCV Alzey
REFRESH-INTERVAL;VALUE=DURATION:PT1H
X-Robots-Tag:noindex
X-PUBLISHED-TTL:PT1H
BEGIN:VTIMEZONE
TZID:UTC
BEGIN:STANDARD
TZOFFSETFROM:+0000
TZOFFSETTO:+0000
TZNAME:UTC
DTSTART:20200101T000000
END:STANDARD
END:VTIMEZONE
BEGIN:VEVENT
DTSTART;TZID=UTC:20200911T203000
DTEND;TZID=UTC:20200911T203000
DTSTAMP:20260424T095238
CREATED:20191104T153448Z
LAST-MODIFIED:20191104T153448Z
UID:913-1599856200-1599856200@kreis-chorverband-alzey.de
SUMMARY:Eröffnung Weinstand
DESCRIPTION:Weinterrasse zwischen den Kirchen \nMännerchor Saulheim ( Liederkranz und Sängervereinigung ) singt zur Eröffnung des vereinseigenen Weinstandes
URL:http://kreis-chorverband-alzey.de/event/eroeffnung-weinstand/
LOCATION:Zwischen den Kirchen
END:VEVENT
BEGIN:VEVENT
DTSTART;TZID=UTC:20200913T170000
DTEND;TZID=UTC:20200913T170000
DTSTAMP:20260424T095238
CREATED:20191104T153845Z
LAST-MODIFIED:20191104T153845Z
UID:927-1600016400-1600016400@kreis-chorverband-alzey.de
SUMMARY:Kerbekonzert
DESCRIPTION:Kerbekonzert mit den R(h)einkehlchen mit Jung- und Kleinkehlchen – Sängervereinigung Saulheim e.V.
URL:http://kreis-chorverband-alzey.de/event/kerbekonzert/
LOCATION:Kath. Kirche Saulheim\, Weedengasse 4\, Saulheim\, 55291\, Deutschland
END:VEVENT
BEGIN:VEVENT
DTSTART;TZID=UTC:20200914T080000
DTEND;TZID=UTC:20200914T170000
DTSTAMP:20260424T095238
CREATED:20191104T153707Z
LAST-MODIFIED:20191104T154645Z
UID:921-1600070400-1600102800@kreis-chorverband-alzey.de
SUMMARY:Musikalischer Kerbeausklang
DESCRIPTION:Musikalischer Kerbeausklang mit Frauenchor iNCognito – Sängervereinigung Saulheim e.V.
URL:http://kreis-chorverband-alzey.de/event/musikalischer-kerbeausklang/
LOCATION:Kath. Kirche Saulheim\, Weedengasse 4\, Saulheim\, 55291\, Deutschland
END:VEVENT
BEGIN:VEVENT
DTSTART;TZID=UTC:20200925T190000
DTEND;TZID=UTC:20200925T210000
DTSTAMP:20260424T095238
CREATED:20200201T155022Z
LAST-MODIFIED:20200201T155022Z
UID:1078-1601060400-1601067600@kreis-chorverband-alzey.de
SUMMARY:"Come sing with us..... "
DESCRIPTION:„Come\, sing with us….“ Moderne Chöre\n				Neubornhalle Wörrrstadt
URL:http://kreis-chorverband-alzey.de/event/come-sing-with-us/
LOCATION:Neubornhalle Wörrstadt\, Jahnstraße 15\, 55286\, Deutschland
END:VEVENT
BEGIN:VEVENT
DTSTART;TZID=UTC:20200926T190000
DTEND;TZID=UTC:20200926T210000
DTSTAMP:20260424T095238
CREATED:20200201T155351Z
LAST-MODIFIED:20200201T155351Z
UID:1085-1601146800-1601154000@kreis-chorverband-alzey.de
SUMMARY:Musikalische Soirée
DESCRIPTION:Musikalische soirée „Tradiditonschöre“
URL:http://kreis-chorverband-alzey.de/event/musikalische-soiree/
LOCATION:Neubornhalle Wörrstadt\, Jahnstraße 15\, 55286\, Deutschland
END:VEVENT
END:VCALENDAR