BEGIN:VCALENDAR
VERSION:2.0
PRODID:-//KCV Alzey - ECPv6.0.8//NONSGML v1.0//EN
CALSCALE:GREGORIAN
METHOD:PUBLISH
X-WR-CALNAME:KCV Alzey
X-ORIGINAL-URL:http://kreis-chorverband-alzey.de
X-WR-CALDESC:Veranstaltungen für KCV Alzey
REFRESH-INTERVAL;VALUE=DURATION:PT1H
X-Robots-Tag:noindex
X-PUBLISHED-TTL:PT1H
BEGIN:VTIMEZONE
TZID:UTC
BEGIN:STANDARD
TZOFFSETFROM:+0000
TZOFFSETTO:+0000
TZNAME:UTC
DTSTART:20210101T000000
END:STANDARD
END:VTIMEZONE
BEGIN:VEVENT
DTSTART;TZID=UTC:20210912T130000
DTEND;TZID=UTC:20210912T170000
DTSTAMP:20260423T145259
CREATED:20210904T122744Z
LAST-MODIFIED:20210904T122902Z
UID:1236-1631451600-1631466000@kreis-chorverband-alzey.de
SUMMARY:Red Carpet Day mit den Albiger Frühlingslerchen und den Skylarks
DESCRIPTION:Als Abschluss der Albiger Kerb werden alle vier Gruppen der\nAlbiger Frühlingslerchen e.V. am Sonntag\, den 12.09.2021 um 13 Uhr ein\nkleines Konzertchen vor dem Albiger Sportheim veranstalten. Nach langer\nKonzertpause wollen wir nach einem Aufruf des Chorverband\nRheinland-Pfalz den roten Teppich für die Chormusik ausrollen und\nzeigen\, dass wir alle noch da sind – gemeinsam singen\, mit Freude proben\nund nun auch wieder auftreten. Präsentieren werden wir Lieder\, die\nmanche Zuhörer vielleicht schon von uns gehört haben\, aber auch ganz\nneue Stücke\, die wir in den letzten 1 1/2 Jahren in Online- und\nDraußenproben gemeinsam eingeübt haben. Die Skylarks werden bei dieser\nGelegenheit einen ersten kleinen Einblick in das von ihnen geplante\nFilmmusik-Konzert geben können.\nWir alle würden uns über viele Zuhörer freuen\, die mit uns die Chormusik\nfeiern und vielleicht sogar ein bisschen mitsingen wollen!
URL:http://kreis-chorverband-alzey.de/event/red-carpet-day-mit-den-albiger-fruehlingslerchen-und-den-skylarks/
LOCATION:am Sportheim\, Albig
END:VEVENT
END:VCALENDAR