BEGIN:VCALENDAR
VERSION:2.0
PRODID:-//KCV Alzey - ECPv6.0.8//NONSGML v1.0//EN
CALSCALE:GREGORIAN
METHOD:PUBLISH
X-WR-CALNAME:KCV Alzey
X-ORIGINAL-URL:http://kreis-chorverband-alzey.de
X-WR-CALDESC:Veranstaltungen für KCV Alzey
REFRESH-INTERVAL;VALUE=DURATION:PT1H
X-Robots-Tag:noindex
X-PUBLISHED-TTL:PT1H
BEGIN:VTIMEZONE
TZID:UTC
BEGIN:STANDARD
TZOFFSETFROM:+0000
TZOFFSETTO:+0000
TZNAME:UTC
DTSTART:20220101T000000
END:STANDARD
END:VTIMEZONE
BEGIN:VEVENT
DTSTART;TZID=UTC:20221125T190000
DTEND;TZID=UTC:20221125T210000
DTSTAMP:20260422T152025
CREATED:20221108T125020Z
LAST-MODIFIED:20221108T125020Z
UID:1359-1669402800-1669410000@kreis-chorverband-alzey.de
SUMMARY:Chorklänge im Advent
DESCRIPTION:  \nAdventskonzert\, iNCognito – Frauenchor der Sängervereinigung Saulheim e.V.\n25.11.2022\, 19:30 Uhr\nEinlass ab 19:00 Uhr\, Eintritt frei – Spenden erbeten für die Vereinsarbeit\nev. Kirche Nieder-Saulheim\nNeue Pforte 2\n55291 SAULHEIM
URL:http://kreis-chorverband-alzey.de/event/chorklaenge-im-advent/
LOCATION:EV. Kirche Saulheim\, Neue Pforte 2\, Saulheim\, 55291\, Deutschland
END:VEVENT
END:VCALENDAR