BEGIN:VCALENDAR
VERSION:2.0
PRODID:-//KCV Alzey - ECPv6.0.8//NONSGML v1.0//EN
CALSCALE:GREGORIAN
METHOD:PUBLISH
X-ORIGINAL-URL:http://kreis-chorverband-alzey.de
X-WR-CALDESC:Veranstaltungen für KCV Alzey
REFRESH-INTERVAL;VALUE=DURATION:PT1H
X-Robots-Tag:noindex
X-PUBLISHED-TTL:PT1H
BEGIN:VTIMEZONE
TZID:UTC
BEGIN:STANDARD
TZOFFSETFROM:+0000
TZOFFSETTO:+0000
TZNAME:UTC
DTSTART:20220101T000000
END:STANDARD
END:VTIMEZONE
BEGIN:VEVENT
DTSTART;TZID=UTC:20221211T170000
DTEND;TZID=UTC:20221211T190000
DTSTAMP:20260422T133601
CREATED:20221108T125721Z
LAST-MODIFIED:20221108T125721Z
UID:1362-1670778000-1670785200@kreis-chorverband-alzey.de
SUMMARY:Stille Nacht
DESCRIPTION:Weihnachtskonzert mit Cantara  \nSonntag\, 11. Dezember 2022\, 17.00 Uhr \nLiebfrauenkirche Albig \n  \nGäste: \nMännerchor Liederkranz Kriftel \nSonja Rickfelder\, Klavier \n  \nMusikalische Leitung: Sebastian W. Wagner
URL:http://kreis-chorverband-alzey.de/event/stille-nacht/
LOCATION:Liebfrauenkirche Albig\, Kirchgasse 2\, Albig\, 55234\, Deutschland
END:VEVENT
BEGIN:VEVENT
DTSTART;TZID=UTC:20221211T170000
DTEND;TZID=UTC:20221211T190000
DTSTAMP:20260422T133601
CREATED:20221208T075157Z
LAST-MODIFIED:20221208T075157Z
UID:1399-1670778000-1670785200@kreis-chorverband-alzey.de
SUMMARY:Offenes Adventssingen mit "Intermezzo"
DESCRIPTION:
URL:http://kreis-chorverband-alzey.de/event/offenes-adventssingen-mit-intermezzo-2/
LOCATION:Kath. Kirche St. Stephanus Spiesheim
END:VEVENT
BEGIN:VEVENT
DTSTART;TZID=UTC:20221214T170000
DTEND;TZID=UTC:20221214T190000
DTSTAMP:20260422T133601
CREATED:20221208T074731Z
LAST-MODIFIED:20221208T074731Z
UID:1388-1671037200-1671044400@kreis-chorverband-alzey.de
SUMMARY:Konzert im Advent
DESCRIPTION:
URL:http://kreis-chorverband-alzey.de/event/konzert-im-advent/
LOCATION:Ev. Liefrauenkirche Albig
END:VEVENT
BEGIN:VEVENT
DTSTART;TZID=UTC:20221223T173000
DTEND;TZID=UTC:20221223T190000
DTSTAMP:20260422T133601
CREATED:20221208T074756Z
LAST-MODIFIED:20221208T074931Z
UID:1384-1671816600-1671822000@kreis-chorverband-alzey.de
SUMMARY:Singen wir im Schein der Kerzen - Weihnachtslieder
DESCRIPTION:
URL:http://kreis-chorverband-alzey.de/event/offenes-adventssingen-mit-intermezzo/
LOCATION:EV. Kirche Saulheim\, Neue Pforte 2\, Saulheim\, 55291\, Deutschland
END:VEVENT
END:VCALENDAR