BEGIN:VCALENDAR
VERSION:2.0
PRODID:-//KCV Alzey - ECPv6.0.8//NONSGML v1.0//EN
CALSCALE:GREGORIAN
METHOD:PUBLISH
X-ORIGINAL-URL:http://kreis-chorverband-alzey.de
X-WR-CALDESC:Veranstaltungen für KCV Alzey
REFRESH-INTERVAL;VALUE=DURATION:PT1H
X-Robots-Tag:noindex
X-PUBLISHED-TTL:PT1H
BEGIN:VTIMEZONE
TZID:UTC
BEGIN:STANDARD
TZOFFSETFROM:+0000
TZOFFSETTO:+0000
TZNAME:UTC
DTSTART:20230101T000000
END:STANDARD
END:VTIMEZONE
BEGIN:VEVENT
DTSTART;TZID=UTC:20230908T203000
DTEND;TZID=UTC:20230908T213000
DTSTAMP:20260419T231329
CREATED:20230117T144403Z
LAST-MODIFIED:20230117T144403Z
UID:1436-1694205000-1694208600@kreis-chorverband-alzey.de
SUMMARY:Singen zur Öffnung eig. Kerbe-Weinstand
DESCRIPTION:
URL:http://kreis-chorverband-alzey.de/event/singen-zur-oeffnung-eig-kerbe-weinstand/
LOCATION:Weinterasse zw. den Kirchen
END:VEVENT
BEGIN:VEVENT
DTSTART;TZID=UTC:20230910T170000
DTEND;TZID=UTC:20230910T190000
DTSTAMP:20260419T231330
CREATED:20230117T144931Z
LAST-MODIFIED:20230724T135449Z
UID:1439-1694365200-1694372400@kreis-chorverband-alzey.de
SUMMARY:Klein-\, Jung- und R(h)einkehlchen Singen zur Kerb
DESCRIPTION:
URL:http://kreis-chorverband-alzey.de/event/klein-jung-und-rheinkelchen-singen-zur-kerb/
LOCATION:EV. Kirche Saulheim\, Neue Pforte 2\, Saulheim\, 55291\, Deutschland
END:VEVENT
END:VCALENDAR