BEGIN:VCALENDAR
VERSION:2.0
PRODID:-//KCV Alzey - ECPv6.0.8//NONSGML v1.0//EN
CALSCALE:GREGORIAN
METHOD:PUBLISH
X-WR-CALNAME:KCV Alzey
X-ORIGINAL-URL:http://kreis-chorverband-alzey.de
X-WR-CALDESC:Veranstaltungen für KCV Alzey
REFRESH-INTERVAL;VALUE=DURATION:PT1H
X-Robots-Tag:noindex
X-PUBLISHED-TTL:PT1H
BEGIN:VTIMEZONE
TZID:UTC
BEGIN:STANDARD
TZOFFSETFROM:+0000
TZOFFSETTO:+0000
TZNAME:UTC
DTSTART:20240101T000000
END:STANDARD
END:VTIMEZONE
BEGIN:VEVENT
DTSTART;TZID=UTC:20240420T183000
DTEND;TZID=UTC:20240420T203000
DTSTAMP:20260419T121610
CREATED:20240310T082520Z
LAST-MODIFIED:20240310T082520Z
UID:1730-1713637800-1713645000@kreis-chorverband-alzey.de
SUMMARY:April\, April mit Cantara
DESCRIPTION:
URL:http://kreis-chorverband-alzey.de/event/april-april-mit-cantara/
LOCATION:Ev. Liefrauenkirche Albig
END:VEVENT
END:VCALENDAR